BEGIN:VCALENDAR
VERSION:2.0
PRODID:-//Clémence Boinot - ECPv5.8.0//NONSGML v1.0//EN
CALSCALE:GREGORIAN
METHOD:PUBLISH
X-WR-CALNAME:Clémence Boinot
X-ORIGINAL-URL:https://clemenceboinot.com
X-WR-CALDESC:évènements pour Clémence Boinot
BEGIN:VTIMEZONE
TZID:America/Sao_Paulo
BEGIN:STANDARD
TZOFFSETFROM:-0200
TZOFFSETTO:-0300
TZNAME:-03
DTSTART:20170219T020000
END:STANDARD
BEGIN:DAYLIGHT
TZOFFSETFROM:-0300
TZOFFSETTO:-0200
TZNAME:-02
DTSTART:20171015T030000
END:DAYLIGHT
END:VTIMEZONE
BEGIN:VEVENT
DTSTART;TZID=America/Sao_Paulo:20170115T173000
DTEND;TZID=America/Sao_Paulo:20170115T183000
DTSTAMP:20260420T043951
CREATED:20170110T012113Z
LAST-MODIFIED:20210603T170611Z
UID:786-1484501400-1484505000@clemenceboinot.com
SUMMARY:Ensemble Caravelle
DESCRIPTION:Spectacle A Little House in Louisiana\nDans une atmosphère de cabaret en ruine\, des personnages déjantés nous font vivre l’histoire de deux sœurs en quête de fortune\, partant pour un voyage initiatique à travers la société américaine des années 1930. Dans un monde en transformation et en pleine crise boursière\, la fuite vers un rêve américain insaisissable les conduira sur les chemins les plus sombres\, à la frontière de la morale\, et les confrontera à leur propre humanité. \nDans cette fable grinçante et déjantée\, les musiciens de l’Ensemble Caravelle deviennent de véritables personnages\, le matériau sonore se transforme et se mêle à la mise en scène de Pierre-André Gamba\, alors que les textes cyniques de Bertolt Brecht sont soulignés par les musiques décalées et parodiques de Kurt Weill.
URL:https://clemenceboinot.com/event/786/
LOCATION:Théâtricul\, Rue de genève 64\, Chêne-Bourg\, Switzerland
END:VEVENT
END:VCALENDAR