BEGIN:VCALENDAR
VERSION:2.0
PRODID:-//Clémence Boinot - ECPv5.8.0//NONSGML v1.0//EN
CALSCALE:GREGORIAN
METHOD:PUBLISH
X-WR-CALNAME:Clémence Boinot
X-ORIGINAL-URL:https://clemenceboinot.com
X-WR-CALDESC:évènements pour Clémence Boinot
BEGIN:VTIMEZONE
TZID:America/Sao_Paulo
BEGIN:STANDARD
TZOFFSETFROM:-0200
TZOFFSETTO:-0300
TZNAME:-03
DTSTART:20160221T020000
END:STANDARD
BEGIN:DAYLIGHT
TZOFFSETFROM:-0300
TZOFFSETTO:-0200
TZNAME:-02
DTSTART:20161016T030000
END:DAYLIGHT
END:VTIMEZONE
BEGIN:VEVENT
DTSTART;TZID=America/Sao_Paulo:20160317T190000
DTEND;TZID=America/Sao_Paulo:20160317T203000
DTSTAMP:20260422T083931
CREATED:20160216T205518Z
LAST-MODIFIED:20160216T205518Z
UID:719-1458241200-1458246600@clemenceboinot.com
SUMMARY:Audition de classe
DESCRIPTION:Audition de la classe de harpe de la Haute Ecole de Musique de Genève. \nŒuvres de Fauré\, Debussy\, Smetana..
URL:https://clemenceboinot.com/event/audition-de-classe/
END:VEVENT
END:VCALENDAR