BEGIN:VCALENDAR
VERSION:2.0
PRODID:-//Clémence Boinot - ECPv5.8.0//NONSGML v1.0//EN
CALSCALE:GREGORIAN
METHOD:PUBLISH
X-WR-CALNAME:Clémence Boinot
X-ORIGINAL-URL:https://clemenceboinot.com
X-WR-CALDESC:évènements pour Clémence Boinot
BEGIN:VTIMEZONE
TZID:America/Sao_Paulo
BEGIN:STANDARD
TZOFFSETFROM:-0200
TZOFFSETTO:-0300
TZNAME:-03
DTSTART:20150222T020000
END:STANDARD
BEGIN:DAYLIGHT
TZOFFSETFROM:-0300
TZOFFSETTO:-0200
TZNAME:-02
DTSTART:20151018T030000
END:DAYLIGHT
END:VTIMEZONE
BEGIN:VEVENT
DTSTART;TZID=America/Sao_Paulo:20150120T200000
DTEND;TZID=America/Sao_Paulo:20150120T213000
DTSTAMP:20260422T095021
CREATED:20140801T003101Z
LAST-MODIFIED:20150101T200839Z
UID:555-1421784000-1421789400@clemenceboinot.com
SUMMARY:Caravelle
DESCRIPTION: un extrait ici! \nSpectacle Jeux d’ombres et de musiques\n \n\n \n \n \n \n \n \n \n  \njouer\ndes sons\, des timbres\,\ndes instruments\, des répertoires\,\njouer sur scène et jouer sur les codes\nsusciter le rire\, éveiller les sens et l’imaginaire\nincarner la musique\, jouer avec l’ombre et la lumière\njouer à souffler\, à frapper\, à frotter\, et à pincer\nlibérer les sons\, les laisser tournoyer\npartager le plaisir et transmettre\nl’irrépressible envie de\njouer \n 
URL:https://clemenceboinot.com/event/caravelle/
LOCATION:Espace Fusterie – temple\, 18 place de la Fusterie\, Genève\, Switzerland
END:VEVENT
END:VCALENDAR