BEGIN:VCALENDAR
VERSION:2.0
PRODID:-//Clémence Boinot - ECPv5.8.0//NONSGML v1.0//EN
CALSCALE:GREGORIAN
METHOD:PUBLISH
X-WR-CALNAME:Clémence Boinot
X-ORIGINAL-URL:https://clemenceboinot.com
X-WR-CALDESC:évènements pour Clémence Boinot
BEGIN:VTIMEZONE
TZID:America/Sao_Paulo
BEGIN:STANDARD
TZOFFSETFROM:-0200
TZOFFSETTO:-0300
TZNAME:-03
DTSTART:20140216T020000
END:STANDARD
BEGIN:DAYLIGHT
TZOFFSETFROM:-0300
TZOFFSETTO:-0200
TZNAME:-02
DTSTART:20141019T030000
END:DAYLIGHT
END:VTIMEZONE
BEGIN:VEVENT
DTSTART;TZID=America/Sao_Paulo:20140510T200000
DTEND;TZID=America/Sao_Paulo:20140510T213000
DTSTAMP:20260422T113745
CREATED:20140411T120422Z
LAST-MODIFIED:20140411T120422Z
UID:501-1399752000-1399757400@clemenceboinot.com
SUMMARY:CMgo
DESCRIPTION:Le Conservatoire de Musique de Genève Orchestra joue pour le marathon musical: \nGiacomo PUCCINI « Gianni Schicchi »\, version réduite
URL:https://clemenceboinot.com/event/cmgo/
END:VEVENT
END:VCALENDAR