BEGIN:VCALENDAR
VERSION:2.0
PRODID:-//Clémence Boinot - ECPv5.8.0//NONSGML v1.0//EN
CALSCALE:GREGORIAN
METHOD:PUBLISH
X-WR-CALNAME:Clémence Boinot
X-ORIGINAL-URL:https://clemenceboinot.com
X-WR-CALDESC:évènements pour Clémence Boinot
BEGIN:VTIMEZONE
TZID:America/Sao_Paulo
BEGIN:STANDARD
TZOFFSETFROM:-0200
TZOFFSETTO:-0300
TZNAME:-03
DTSTART:20190217T020000
END:STANDARD
END:VTIMEZONE
BEGIN:VEVENT
DTSTART;TZID=America/Sao_Paulo:20190607T203000
DTEND;TZID=America/Sao_Paulo:20190607T223000
DTSTAMP:20260420T030918
CREATED:20190702T022537Z
LAST-MODIFIED:20190702T022537Z
UID:828-1559939400-1559946600@clemenceboinot.com
SUMMARY:Concerto
DESCRIPTION:Direction\, Marcelo Lehninger\nOrquestra filarmônica de Minas Gerais \n \n  \n  \n  \n  \n  \n  \n  \n  \n  \n  \nSoliste : Clémence Boinot\, harpe\nGabriel PIERNE : Concertstück\nMaurice RAVEL : Introduction et Allegro
URL:https://clemenceboinot.com/event/concerto-3/
LOCATION:Sala Minas Gerais\, Rua Tenente Brito Melo\, 1090 \, Belo Horizonte\, Brazil
END:VEVENT
END:VCALENDAR