BEGIN:VCALENDAR
VERSION:2.0
PRODID:-//Clémence Boinot - ECPv5.8.0//NONSGML v1.0//EN
CALSCALE:GREGORIAN
METHOD:PUBLISH
X-WR-CALNAME:Clémence Boinot
X-ORIGINAL-URL:https://clemenceboinot.com
X-WR-CALDESC:évènements pour Clémence Boinot
BEGIN:VTIMEZONE
TZID:America/Sao_Paulo
BEGIN:STANDARD
TZOFFSETFROM:-0300
TZOFFSETTO:-0300
TZNAME:-03
DTSTART:20210101T000000
END:STANDARD
END:VTIMEZONE
BEGIN:VEVENT
DTSTART;TZID=America/Sao_Paulo:20210513T203000
DTEND;TZID=America/Sao_Paulo:20210513T220000
DTSTAMP:20260420T031006
CREATED:20210601T002555Z
LAST-MODIFIED:20210603T172410Z
UID:878-1620937800-1620943200@clemenceboinot.com
SUMMARY:Concerto
DESCRIPTION:Assista o concerto inteiro aqui! \nOrquestra Filarmônica de Minas Gerais\nFabio Mechetti\, regente\nClémence Boinot\, harpa \nHUMPERDINCK | João e Maria: Prelúdio\nVILLA-LOBOS | Concerto para harpa\nBRUCKNER | Sinfonia nº 1 em dó menor
URL:https://clemenceboinot.com/event/concerto-4/
LOCATION:Sala Minas Gerais\, Rua Tenente Brito Melo\, 1090 \, Belo Horizonte\, Brazil
CATEGORIES:Clemence
END:VEVENT
END:VCALENDAR