BEGIN:VCALENDAR
VERSION:2.0
PRODID:-//Clémence Boinot - ECPv5.8.0//NONSGML v1.0//EN
CALSCALE:GREGORIAN
METHOD:PUBLISH
X-WR-CALNAME:Clémence Boinot
X-ORIGINAL-URL:https://clemenceboinot.com
X-WR-CALDESC:évènements pour Clémence Boinot
BEGIN:VTIMEZONE
TZID:Europe/Paris
BEGIN:DAYLIGHT
TZOFFSETFROM:+0100
TZOFFSETTO:+0200
TZNAME:CEST
DTSTART:20230326T010000
END:DAYLIGHT
BEGIN:STANDARD
TZOFFSETFROM:+0200
TZOFFSETTO:+0100
TZNAME:CET
DTSTART:20231029T010000
END:STANDARD
END:VTIMEZONE
BEGIN:VEVENT
DTSTART;TZID=Europe/Paris:20231123T203000
DTEND;TZID=Europe/Paris:20231123T223000
DTSTAMP:20260420T014259
CREATED:20230319T020803Z
LAST-MODIFIED:20230319T020803Z
UID:1106-1700771400-1700778600@clemenceboinot.com
SUMMARY:Concerto
DESCRIPTION:Orquestra Filarmônica de Minas Gerais \nJosé Soares\, regente\nCássia Lima\, flauta\nAlexandre Barros\, oboé\nMarcus Julius Lander\, clarinete\nAdolfo Cabrerizo\, fagote\nClémence Boinot\, harpa \nREGER        Suíte em estilo antigo\, op. 93\nHINDEMITH  Concerto para madeiras\, harpa e orquestra\nBRAHMS      Sinfonia nº 2 em Ré maior\, op. 73
URL:https://clemenceboinot.com/event/concerto-5/
LOCATION:Sala Minas Gerais\, Rua Tenente Brito Melo\, 1090 \, Belo Horizonte\, Brazil
END:VEVENT
END:VCALENDAR