BEGIN:VCALENDAR
VERSION:2.0
PRODID:-//Clémence Boinot - ECPv5.8.0//NONSGML v1.0//EN
CALSCALE:GREGORIAN
METHOD:PUBLISH
X-WR-CALNAME:Clémence Boinot
X-ORIGINAL-URL:https://clemenceboinot.com
X-WR-CALDESC:évènements pour Clémence Boinot
BEGIN:VTIMEZONE
TZID:America/Sao_Paulo
BEGIN:STANDARD
TZOFFSETFROM:-0200
TZOFFSETTO:-0300
TZNAME:-03
DTSTART:20140216T020000
END:STANDARD
BEGIN:DAYLIGHT
TZOFFSETFROM:-0300
TZOFFSETTO:-0200
TZNAME:-02
DTSTART:20141019T030000
END:DAYLIGHT
END:VTIMEZONE
BEGIN:VEVENT
DTSTART;TZID=America/Sao_Paulo:20140329T180000
DTEND;TZID=America/Sao_Paulo:20140329T190000
DTSTAMP:20260422T114109
CREATED:20140411T115547Z
LAST-MODIFIED:20140411T115547Z
UID:497-1396116000-1396119600@clemenceboinot.com
SUMMARY:Festival Archipel - Atelier cosmopolite
DESCRIPTION:Créations des étudiants des classes de composition de Genève et Zurich. \nTakuya IMAHORI « Battements d’ailes dans la roselière » pour hautbois\, harpe et électronique \nLoïc SYLVESTRE « Lune viscérale allaitant un soleil chu » pour théorbe et électronique \nUrsula MEYER-KÖNIG « Die Rückseite des Spiegels » pour bande 8 pistes \nCarlos HIDALGO « Aulos » pour hautbois et électronique
URL:https://clemenceboinot.com/event/festival-archipel-atelier-cosmopolite/
LOCATION:Théâtre Pitoëff\, Rue de Carouge 52\, Genève\, Switzerland
END:VEVENT
END:VCALENDAR