BEGIN:VCALENDAR
VERSION:2.0
PRODID:-//Clémence Boinot - ECPv5.8.0//NONSGML v1.0//EN
CALSCALE:GREGORIAN
METHOD:PUBLISH
X-WR-CALNAME:Clémence Boinot
X-ORIGINAL-URL:https://clemenceboinot.com
X-WR-CALDESC:évènements pour Clémence Boinot
BEGIN:VTIMEZONE
TZID:Europe/Paris
BEGIN:DAYLIGHT
TZOFFSETFROM:+0100
TZOFFSETTO:+0200
TZNAME:CEST
DTSTART:20230326T010000
END:DAYLIGHT
BEGIN:STANDARD
TZOFFSETFROM:+0200
TZOFFSETTO:+0100
TZNAME:CET
DTSTART:20231029T010000
END:STANDARD
END:VTIMEZONE
BEGIN:VEVENT
DTSTART;TZID=Europe/Paris:20230718T203000
DTEND;TZID=Europe/Paris:20230718T213000
DTSTAMP:20260420T014443
CREATED:20230319T021409Z
LAST-MODIFIED:20230319T021409Z
UID:1111-1689712200-1689715800@clemenceboinot.com
SUMMARY:Filarmônica em Câmara
DESCRIPTION:VILLA-LOBOS     Trio para oboé\, clarinete e cordas\nL. GUERREIRO   Taniquetil\nL. LIEBERMANN  Sonata para flauta e harpa\, op. 56\nMOZART              Trio em Mi bemol maior para clarinete\, viola e piano\, K. 498\, “Kegelstatt”\n\n\nAlexandre Barros\, oboé\nMarcus Julius Lander\, clarinete\nAdolfo Cabrerizo\, fagote\nIsrael Muniz\, oboé\nSérgio Aluotto\, percussão\nCássia Lima\, flauta\nClémence Boinot\, harpa\nAlexandre Silva\, clarinete\nNathan Medina\, viola\nAyumi Shigeta\, piano
URL:https://clemenceboinot.com/event/filarmonica-em-camara-2/
LOCATION:Sala Minas Gerais\, Rua Tenente Brito Melo\, 1090 \, Belo Horizonte\, Brazil
END:VEVENT
END:VCALENDAR