BEGIN:VCALENDAR
VERSION:2.0
PRODID:-//Clémence Boinot - ECPv5.8.0//NONSGML v1.0//EN
CALSCALE:GREGORIAN
METHOD:PUBLISH
X-WR-CALNAME:Clémence Boinot
X-ORIGINAL-URL:https://clemenceboinot.com
X-WR-CALDESC:évènements pour Clémence Boinot
BEGIN:VTIMEZONE
TZID:America/Sao_Paulo
BEGIN:STANDARD
TZOFFSETFROM:-0300
TZOFFSETTO:-0300
TZNAME:-03
DTSTART:20200101T000000
END:STANDARD
END:VTIMEZONE
BEGIN:VEVENT
DTSTART;TZID=America/Sao_Paulo:20201018T110000
DTEND;TZID=America/Sao_Paulo:20201018T110000
DTSTAMP:20260420T031204
CREATED:20210601T000820Z
LAST-MODIFIED:20210603T171743Z
UID:873-1603018800-1603018800@clemenceboinot.com
SUMMARY:Filarmônica em Câmara-Digital
DESCRIPTION:MARTINU | Três Madrigais\nPASCULLI | Homenagem a Bellini\nDaniel WOLFF | Quarteto do Adeus \nRommel Fernandes\, violino Nathan Medina\, viola\nClémence Boinot\, harpa Israel Muniz\, corne inglês\nJoanna Bello\, violino Rodrigo Bustamante\, violino Gerry Varona\, viola Camilla Ribeiro\, violoncelo
URL:https://clemenceboinot.com/event/filarmonica-em-camara-digital/
LOCATION:Sala Minas Gerais\, Rua Tenente Brito Melo\, 1090 \, Belo Horizonte\, Brazil
CATEGORIES:Musique de chambre
END:VEVENT
END:VCALENDAR