BEGIN:VCALENDAR
VERSION:2.0
PRODID:-//Clémence Boinot - ECPv5.8.0//NONSGML v1.0//EN
CALSCALE:GREGORIAN
METHOD:PUBLISH
X-WR-CALNAME:Clémence Boinot
X-ORIGINAL-URL:https://clemenceboinot.com
X-WR-CALDESC:évènements pour Clémence Boinot
BEGIN:VTIMEZONE
TZID:America/Sao_Paulo
BEGIN:STANDARD
TZOFFSETFROM:-0200
TZOFFSETTO:-0300
TZNAME:-03
DTSTART:20190217T020000
END:STANDARD
END:VTIMEZONE
BEGIN:VEVENT
DTSTART;TZID=America/Sao_Paulo:20190813T203000
DTEND;TZID=America/Sao_Paulo:20190813T223000
DTSTAMP:20260420T032520
CREATED:20190725T211721Z
LAST-MODIFIED:20190725T212132Z
UID:840-1565728200-1565735400@clemenceboinot.com
SUMMARY:Música de Câmara na Filarmônica
DESCRIPTION:E. DOHNÁNYI     Serenata em Dó maior para trio para cordas\, op. 10\nSAINT-SAËNS     Fantasia para flauta e harpa\, op. 124\nBRITTEN             Fantasia para oboé e trio de cordas\, op. 2\nPROKOFIEV       Quarteto de cordas nº 1 em si menor\, op. 50\n\n\n\n\n\n\nLuka Milanovic\, violino\nRoberto Papi\, viola\nWilliam Neres\, violoncelo\nCássia Renata Lima\, flauta\nClémence Boinot\, harpa\nIsrael Muniz\, oboé\nRodrigo Oliveira\, violino
URL:https://clemenceboinot.com/event/musica-de-camara-na-filarmonica/
LOCATION:Sala Minas Gerais\, Rua Tenente Brito Melo\, 1090 \, Belo Horizonte\, Brazil
END:VEVENT
END:VCALENDAR