BEGIN:VCALENDAR
VERSION:2.0
PRODID:-//Clémence Boinot - ECPv5.8.0//NONSGML v1.0//EN
CALSCALE:GREGORIAN
METHOD:PUBLISH
X-WR-CALNAME:Clémence Boinot
X-ORIGINAL-URL:https://clemenceboinot.com
X-WR-CALDESC:évènements pour Clémence Boinot
BEGIN:VTIMEZONE
TZID:America/Sao_Paulo
BEGIN:STANDARD
TZOFFSETFROM:-0200
TZOFFSETTO:-0300
TZNAME:-03
DTSTART:20130217T020000
END:STANDARD
BEGIN:DAYLIGHT
TZOFFSETFROM:-0300
TZOFFSETTO:-0200
TZNAME:-02
DTSTART:20131020T030000
END:DAYLIGHT
END:VTIMEZONE
BEGIN:VEVENT
DTSTART;TZID=America/Sao_Paulo:20130927T173000
DTEND;TZID=America/Sao_Paulo:20130927T190000
DTSTAMP:20260422T130932
CREATED:20130914T155142Z
LAST-MODIFIED:20130921T220852Z
UID:470-1380303000-1380308400@clemenceboinot.com
SUMMARY:Orchestre de la HEM
DESCRIPTION:Concert d’œuvres nouvelles : Sua SEO\, Adam MAOR\, Arthur AKSEHLYAN…
URL:https://clemenceboinot.com/event/orchestre-de-la-hem-6/
LOCATION:Studio Ansermet\, Passage de la Radio 2\, Genève\, Switzerland
END:VEVENT
END:VCALENDAR