BEGIN:VCALENDAR
VERSION:2.0
PRODID:-//Clémence Boinot - ECPv5.8.0//NONSGML v1.0//EN
CALSCALE:GREGORIAN
METHOD:PUBLISH
X-WR-CALNAME:Clémence Boinot
X-ORIGINAL-URL:https://clemenceboinot.com
X-WR-CALDESC:évènements pour Clémence Boinot
BEGIN:VTIMEZONE
TZID:America/Sao_Paulo
BEGIN:STANDARD
TZOFFSETFROM:-0200
TZOFFSETTO:-0300
TZNAME:-03
DTSTART:20120226T020000
END:STANDARD
BEGIN:DAYLIGHT
TZOFFSETFROM:-0300
TZOFFSETTO:-0200
TZNAME:-02
DTSTART:20121021T030000
END:DAYLIGHT
END:VTIMEZONE
BEGIN:VEVENT
DTSTART;TZID=America/Sao_Paulo:20121109T190000
DTEND;TZID=America/Sao_Paulo:20121109T200000
DTSTAMP:20260422T160139
CREATED:20130610T224107Z
LAST-MODIFIED:20130914T160649Z
UID:203-1352487600-1352491200@clemenceboinot.com
SUMMARY:Orchestre de la Suisse Romande
DESCRIPTION:« Concert Prélude »: Belà BARTÓK « Concerto pour Orchestre »
URL:https://clemenceboinot.com/event/orchestre-de-la-suisse-romande/
LOCATION:Victoria Hall\, Rue du Général-Dufour 14\, Genève\, Switzerland
END:VEVENT
END:VCALENDAR