BEGIN:VCALENDAR
VERSION:2.0
PRODID:-//Clémence Boinot - ECPv5.8.0//NONSGML v1.0//EN
CALSCALE:GREGORIAN
METHOD:PUBLISH
X-WR-CALNAME:Clémence Boinot
X-ORIGINAL-URL:https://clemenceboinot.com
X-WR-CALDESC:évènements pour Clémence Boinot
BEGIN:VTIMEZONE
TZID:America/Sao_Paulo
BEGIN:STANDARD
TZOFFSETFROM:-0200
TZOFFSETTO:-0300
TZNAME:-03
DTSTART:20140216T020000
END:STANDARD
BEGIN:DAYLIGHT
TZOFFSETFROM:-0300
TZOFFSETTO:-0200
TZNAME:-02
DTSTART:20141019T030000
END:DAYLIGHT
END:VTIMEZONE
BEGIN:VEVENT
DTSTART;TZID=America/Sao_Paulo:20141010T190000
DTEND;TZID=America/Sao_Paulo:20141010T200000
DTSTAMP:20260422T130944
CREATED:20140909T131201Z
LAST-MODIFIED:20140915T141602Z
UID:608-1412967600-1412971200@clemenceboinot.com
SUMMARY:Orchestre OSR et HEM
DESCRIPTION:Dmitri CHOSTAKOVITCH\, « Symphonie n°1 ».\nOttorino RESPIGHI\, « Les fontaines de Rome ».
URL:https://clemenceboinot.com/event/orchestre-osr-et-hem/
LOCATION:Victoria Hall\, Rue du Général-Dufour 14\, Genève\, Switzerland
END:VEVENT
END:VCALENDAR