BEGIN:VCALENDAR
VERSION:2.0
PRODID:-//Clémence Boinot - ECPv5.8.0//NONSGML v1.0//EN
CALSCALE:GREGORIAN
METHOD:PUBLISH
X-WR-CALNAME:Clémence Boinot
X-ORIGINAL-URL:https://clemenceboinot.com
X-WR-CALDESC:évènements pour Clémence Boinot
BEGIN:VTIMEZONE
TZID:America/Sao_Paulo
BEGIN:STANDARD
TZOFFSETFROM:-0200
TZOFFSETTO:-0300
TZNAME:-03
DTSTART:20150222T020000
END:STANDARD
BEGIN:DAYLIGHT
TZOFFSETFROM:-0300
TZOFFSETTO:-0200
TZNAME:-02
DTSTART:20151018T030000
END:DAYLIGHT
END:VTIMEZONE
BEGIN:VEVENT
DTSTART;TZID=America/Sao_Paulo:20150703T203000
DTEND;TZID=America/Sao_Paulo:20150703T220000
DTSTAMP:20260422T100301
CREATED:20150831T004936Z
LAST-MODIFIED:20150831T005228Z
UID:681-1435955400-1435960800@clemenceboinot.com
SUMMARY:Orchestre Sinfonietta de Lausanne
DESCRIPTION:PIXAR en concert \nMusiques des films d’animation Pixar\, sur projections d’extraits des films.
URL:https://clemenceboinot.com/event/orchestre-sinfonietta-de-lausanne/
LOCATION:Théâtre du Jorat\, Rue du Théâtre 12\, Mézières\, Switzerland
END:VEVENT
END:VCALENDAR