BEGIN:VCALENDAR
VERSION:2.0
PRODID:-//Clémence Boinot - ECPv5.8.0//NONSGML v1.0//EN
CALSCALE:GREGORIAN
METHOD:PUBLISH
X-WR-CALNAME:Clémence Boinot
X-ORIGINAL-URL:https://clemenceboinot.com
X-WR-CALDESC:évènements pour Clémence Boinot
BEGIN:VTIMEZONE
TZID:America/Sao_Paulo
BEGIN:STANDARD
TZOFFSETFROM:-0200
TZOFFSETTO:-0300
TZNAME:-03
DTSTART:20150222T020000
END:STANDARD
BEGIN:DAYLIGHT
TZOFFSETFROM:-0300
TZOFFSETTO:-0200
TZNAME:-02
DTSTART:20151018T030000
END:DAYLIGHT
END:VTIMEZONE
BEGIN:VEVENT
DTSTART;TZID=America/Sao_Paulo:20150520T110000
DTEND;TZID=America/Sao_Paulo:20150520T120000
DTSTAMP:20260422T100803
CREATED:20150124T151151Z
LAST-MODIFIED:20150410T160846Z
UID:640-1432119600-1432123200@clemenceboinot.com
SUMMARY:Récital
DESCRIPTION:Récital de fin de Master (harpe solo) :\nHenriette RENIE « Contemplation »\nHenriette RENIE « Danse des lutins »\nDarius MILHAUD « Sonate pour harpe »\nJorge MALATS « Serenata espagnola »\nFrançois-Jospeh DIZI « Grande Sonate pour harpe »\nElias PARISH-ALVARS « Sérénade »
URL:https://clemenceboinot.com/event/recital-2/
LOCATION:Haute Ecole de Musique\, salle 20\, Place de Neuve\, Genève\, Switzerland
END:VEVENT
END:VCALENDAR