BEGIN:VCALENDAR
VERSION:2.0
PRODID:-//Clémence Boinot - ECPv5.8.0//NONSGML v1.0//EN
CALSCALE:GREGORIAN
METHOD:PUBLISH
X-WR-CALNAME:Clémence Boinot
X-ORIGINAL-URL:https://clemenceboinot.com
X-WR-CALDESC:évènements pour Clémence Boinot
BEGIN:VTIMEZONE
TZID:America/Sao_Paulo
BEGIN:STANDARD
TZOFFSETFROM:-0200
TZOFFSETTO:-0300
TZNAME:-03
DTSTART:20150222T020000
END:STANDARD
BEGIN:DAYLIGHT
TZOFFSETFROM:-0300
TZOFFSETTO:-0200
TZNAME:-02
DTSTART:20151018T030000
END:DAYLIGHT
END:VTIMEZONE
BEGIN:VEVENT
DTSTART;TZID=America/Sao_Paulo:20151013T210000
DTEND;TZID=America/Sao_Paulo:20151013T230000
DTSTAMP:20260422T083037
CREATED:20150830T235340Z
LAST-MODIFIED:20150927T230037Z
UID:669-1444770000-1444777200@clemenceboinot.com
SUMMARY:Récital
DESCRIPTION:Récital aux café des Savoises : \nFrançois-Joseph DIZI « Grande Sonate »\nHenriette RENIE « Contemplation »\nHenriette RENIE « Danse des lutins »\nPaul HINDEMITH « Sonata »\nMenachem WIESENBERG « Mizmor Shir » \nEn première partie de concert\, nous entendrons le Quatuor Ernest\, le Duo Volubile (piano & violon)\, le Duo Mercutio (piano & violon aussi\, mais pas les mêmes) et le Quintette N°5 (quintette à vent)!
URL:https://clemenceboinot.com/event/recital-3/
LOCATION:Café Les Savoises\, rue des savoises 9bis\, Genève\, Switzerland
END:VEVENT
END:VCALENDAR