BEGIN:VCALENDAR
VERSION:2.0
PRODID:-//Clémence Boinot - ECPv5.8.0//NONSGML v1.0//EN
CALSCALE:GREGORIAN
METHOD:PUBLISH
X-WR-CALNAME:Clémence Boinot
X-ORIGINAL-URL:https://clemenceboinot.com
X-WR-CALDESC:évènements pour Clémence Boinot
BEGIN:VTIMEZONE
TZID:America/Sao_Paulo
BEGIN:STANDARD
TZOFFSETFROM:-0200
TZOFFSETTO:-0300
TZNAME:-03
DTSTART:20150222T020000
END:STANDARD
BEGIN:DAYLIGHT
TZOFFSETFROM:-0300
TZOFFSETTO:-0200
TZNAME:-02
DTSTART:20151018T030000
END:DAYLIGHT
END:VTIMEZONE
BEGIN:VEVENT
DTSTART;TZID=America/Sao_Paulo:20151016T153000
DTEND;TZID=America/Sao_Paulo:20151016T163000
DTSTAMP:20260422T083820
CREATED:20150830T235608Z
LAST-MODIFIED:20150927T200607Z
UID:671-1445009400-1445013000@clemenceboinot.com
SUMMARY:Récital
DESCRIPTION:Récital aux HUG\, avec Hanna Borka \n(plus d’infos à venir)
URL:https://clemenceboinot.com/event/recital-4/
LOCATION:Hôpital de Genève\, Rue Gabrielle-Perret-Gentil 4\, Genève\, Switzerland
END:VEVENT
END:VCALENDAR