BEGIN:VCALENDAR
VERSION:2.0
PRODID:-//Clémence Boinot - ECPv5.8.0//NONSGML v1.0//EN
CALSCALE:GREGORIAN
METHOD:PUBLISH
X-WR-CALNAME:Clémence Boinot
X-ORIGINAL-URL:https://clemenceboinot.com
X-WR-CALDESC:évènements pour Clémence Boinot
BEGIN:VTIMEZONE
TZID:America/Sao_Paulo
BEGIN:STANDARD
TZOFFSETFROM:-0200
TZOFFSETTO:-0300
TZNAME:-03
DTSTART:20150222T020000
END:STANDARD
BEGIN:DAYLIGHT
TZOFFSETFROM:-0300
TZOFFSETTO:-0200
TZNAME:-02
DTSTART:20151018T030000
END:DAYLIGHT
END:VTIMEZONE
BEGIN:VEVENT
DTSTART;TZID=America/Sao_Paulo:20151026T180000
DTEND;TZID=America/Sao_Paulo:20151026T190000
DTSTAMP:20260422T083911
CREATED:20151026T013715Z
LAST-MODIFIED:20151026T013715Z
UID:693-1445882400-1445886000@clemenceboinot.com
SUMMARY:Récital
DESCRIPTION:Récital solo : \nDarius MILHAUD « Sonate »\nGiovanni Battista PESCETTI « Sonate en do mineur » (original pour clavecin)\nElias PARISH-ALVARS « Sérénade »\nDieter SCHNEBEL « Circe »
URL:https://clemenceboinot.com/event/recital-6/
LOCATION:Haute Ecole de Musique\, salle 20\, Place de Neuve\, Genève\, Switzerland
END:VEVENT
END:VCALENDAR