BEGIN:VCALENDAR
VERSION:2.0
PRODID:-//Clémence Boinot - ECPv5.8.0//NONSGML v1.0//EN
CALSCALE:GREGORIAN
METHOD:PUBLISH
X-WR-CALNAME:Clémence Boinot
X-ORIGINAL-URL:https://clemenceboinot.com
X-WR-CALDESC:évènements pour Clémence Boinot
BEGIN:VTIMEZONE
TZID:America/Sao_Paulo
BEGIN:STANDARD
TZOFFSETFROM:-0200
TZOFFSETTO:-0300
TZNAME:-03
DTSTART:20150222T020000
END:STANDARD
BEGIN:DAYLIGHT
TZOFFSETFROM:-0300
TZOFFSETTO:-0200
TZNAME:-02
DTSTART:20151018T030000
END:DAYLIGHT
END:VTIMEZONE
BEGIN:VEVENT
DTSTART;TZID=America/Sao_Paulo:20151027T160000
DTEND;TZID=America/Sao_Paulo:20151027T170000
DTSTAMP:20260422T083839
CREATED:20151026T014036Z
LAST-MODIFIED:20151026T014036Z
UID:696-1445961600-1445965200@clemenceboinot.com
SUMMARY:Récital
DESCRIPTION:Récital solo : \nPaul HINDEMITH                   Sonata – 1939\nFrançois-Joseph DIZI             Grande Sonate – 1837\nHenriette RENIE                    Contemplation – 1902\nHenriette RENIE                    Danse des lutins – 1912\nMenachem WIESENBERG    Mizmor Shir  – 2015
URL:https://clemenceboinot.com/event/recital-7/
LOCATION:Haute Ecole de Musique\, salle 20\, Place de Neuve\, Genève\, Switzerland
END:VEVENT
END:VCALENDAR