BEGIN:VCALENDAR
VERSION:2.0
PRODID:-//Clémence Boinot - ECPv5.8.0//NONSGML v1.0//EN
CALSCALE:GREGORIAN
METHOD:PUBLISH
X-WR-CALNAME:Clémence Boinot
X-ORIGINAL-URL:https://clemenceboinot.com
X-WR-CALDESC:évènements pour Clémence Boinot
BEGIN:VTIMEZONE
TZID:America/Sao_Paulo
BEGIN:STANDARD
TZOFFSETFROM:-0200
TZOFFSETTO:-0300
TZNAME:-03
DTSTART:20160221T020000
END:STANDARD
BEGIN:DAYLIGHT
TZOFFSETFROM:-0300
TZOFFSETTO:-0200
TZNAME:-02
DTSTART:20161016T030000
END:DAYLIGHT
END:VTIMEZONE
BEGIN:VEVENT
DTSTART;TZID=America/Sao_Paulo:20160221T160000
DTEND;TZID=America/Sao_Paulo:20160221T170000
DTSTAMP:20260422T083117
CREATED:20160216T204647Z
LAST-MODIFIED:20160216T204925Z
UID:713-1456070400-1456074000@clemenceboinot.com
SUMMARY:Récital
DESCRIPTION:Récital solo : \nGiovanni Battista PESCETTI  Sonata in c-minor.\nPaul HINDEMITH                  Sonata for Harp\nFélix MENDELSSOHN          Lieder ohne Worte op.53 n°4 & op.102 n°6.\nMenachem WIESENBERG    Mizmor Shir\nElias PARISH-ALVARS         Sérénade op. 83
URL:https://clemenceboinot.com/event/recital-8/
LOCATION:Krankenhauskirche im Wuhlgarten\, Brebacherweg 15 \,  Berlin- Biesdorf\, 12683\, Germany
END:VEVENT
END:VCALENDAR