BEGIN:VCALENDAR
VERSION:2.0
PRODID:-//Clémence Boinot - ECPv5.8.0//NONSGML v1.0//EN
CALSCALE:GREGORIAN
METHOD:PUBLISH
X-WR-CALNAME:Clémence Boinot
X-ORIGINAL-URL:https://clemenceboinot.com
X-WR-CALDESC:évènements pour Clémence Boinot
BEGIN:VTIMEZONE
TZID:America/Sao_Paulo
BEGIN:STANDARD
TZOFFSETFROM:-0200
TZOFFSETTO:-0300
TZNAME:-03
DTSTART:20170219T020000
END:STANDARD
BEGIN:DAYLIGHT
TZOFFSETFROM:-0300
TZOFFSETTO:-0200
TZNAME:-02
DTSTART:20171015T030000
END:DAYLIGHT
END:VTIMEZONE
BEGIN:VEVENT
DTSTART;TZID=America/Sao_Paulo:20170204T183000
DTEND;TZID=America/Sao_Paulo:20170204T193000
DTSTAMP:20260420T044139
CREATED:20170129T172538Z
LAST-MODIFIED:20170129T174329Z
UID:788-1486233000-1486236600@clemenceboinot.com
SUMMARY:Récital
DESCRIPTION:BACH Carl Philipp Emmanuel\nSonate pour harpe en sol majeur Wtq.139\nI – Adagio un poco\nII – Allegro\nIII  – Allegro \nMENDELSSOHN Félix\nRomances sans paroles op.19\nNuméro 1 – Andante con moto\nNuméro 6 – Venetianisches Gondellied\, Andante sostenuto \nRENIÉ Henriette\nPièce symphonique\nTOURNIER Marcel\nSonatine op.30\nI – Allègrement\nII – Calme et expressif\nIII – Fiévreusement \nSCHNEBEL Dieter\nCirce\n 
URL:https://clemenceboinot.com/event/recital-9/
LOCATION:Auditorium – Ecole de Musique e Cluses\, 20\,rue du Pré Bénévix\, Cluses\, France
END:VEVENT
END:VCALENDAR