BEGIN:VCALENDAR
VERSION:2.0
PRODID:-//Clémence Boinot - ECPv5.8.0//NONSGML v1.0//EN
CALSCALE:GREGORIAN
METHOD:PUBLISH
X-WR-CALNAME:Clémence Boinot
X-ORIGINAL-URL:https://clemenceboinot.com
X-WR-CALDESC:évènements pour Clémence Boinot
BEGIN:VTIMEZONE
TZID:America/Sao_Paulo
BEGIN:STANDARD
TZOFFSETFROM:-0200
TZOFFSETTO:-0300
TZNAME:-03
DTSTART:20150222T020000
END:STANDARD
BEGIN:DAYLIGHT
TZOFFSETFROM:-0300
TZOFFSETTO:-0200
TZNAME:-02
DTSTART:20151018T030000
END:DAYLIGHT
END:VTIMEZONE
BEGIN:VEVENT
DTSTART;TZID=America/Sao_Paulo:20151101T180000
DTEND;TZID=America/Sao_Paulo:20151101T190000
DTSTAMP:20260422T084154
CREATED:20151026T014251Z
LAST-MODIFIED:20151026T014739Z
UID:699-1446400800-1446404400@clemenceboinot.com
SUMMARY:Récital en quintette
DESCRIPTION:Récital en Quintette\n\nMarcel TOURNIER                        Féérie \nVIVALDI arrangement Arnold BAX  Concerto en ré mineur\nAndré CAPLET                           Conte fantastique – 1908 \nEurydice Vernay\, Chloé Jullian\, violons.\nIrénée Krumenacker\, alto.\nAlexandre Alvarez\, violocelle.
URL:https://clemenceboinot.com/event/recital-en-quintette/
LOCATION:Haute Ecole de Musique\, salle 20\, Place de Neuve\, Genève\, Switzerland
END:VEVENT
END:VCALENDAR