BEGIN:VCALENDAR
VERSION:2.0
PRODID:-//Clémence Boinot - ECPv5.8.0//NONSGML v1.0//EN
CALSCALE:GREGORIAN
METHOD:PUBLISH
X-WR-CALNAME:Clémence Boinot
X-ORIGINAL-URL:https://clemenceboinot.com
X-WR-CALDESC:évènements pour Clémence Boinot
BEGIN:VTIMEZONE
TZID:America/Sao_Paulo
BEGIN:STANDARD
TZOFFSETFROM:-0200
TZOFFSETTO:-0300
TZNAME:-03
DTSTART:20160221T020000
END:STANDARD
BEGIN:DAYLIGHT
TZOFFSETFROM:-0300
TZOFFSETTO:-0200
TZNAME:-02
DTSTART:20161016T030000
END:DAYLIGHT
END:VTIMEZONE
BEGIN:VEVENT
DTSTART;TZID=America/Sao_Paulo:20160510T203000
DTEND;TZID=America/Sao_Paulo:20160510T213000
DTSTAMP:20260422T071024
CREATED:20160216T205143Z
LAST-MODIFIED:20160502T002737Z
UID:717-1462912200-1462915800@clemenceboinot.com
SUMMARY:Récital  Trio Sitka
DESCRIPTION:Premier récital du Trio Sitka : flûte\, alto et harpe! \nConcert « Musique française » : œuvres de Ravel\, Debussy\, Fauré\, Poulenc\, Hersant .. \nMaud BESNARD\, flûte\nMathurin BOUNY\, alto
URL:https://clemenceboinot.com/event/recital-en-trio/
LOCATION:Café Les Savoises\, rue des savoises 9bis\, Genève\, Switzerland
END:VEVENT
END:VCALENDAR