BEGIN:VCALENDAR
VERSION:2.0
PRODID:-//Clémence Boinot - ECPv5.8.0//NONSGML v1.0//EN
CALSCALE:GREGORIAN
METHOD:PUBLISH
X-WR-CALNAME:Clémence Boinot
X-ORIGINAL-URL:https://clemenceboinot.com
X-WR-CALDESC:évènements pour Clémence Boinot
BEGIN:VTIMEZONE
TZID:Europe/Paris
BEGIN:DAYLIGHT
TZOFFSETFROM:+0100
TZOFFSETTO:+0200
TZNAME:CEST
DTSTART:20220327T010000
END:DAYLIGHT
BEGIN:STANDARD
TZOFFSETFROM:+0200
TZOFFSETTO:+0100
TZNAME:CET
DTSTART:20221030T010000
END:STANDARD
END:VTIMEZONE
BEGIN:VEVENT
DTSTART;TZID=Europe/Paris:20221111T200000
DTEND;TZID=Europe/Paris:20221111T210000
DTSTAMP:20260420T014611
CREATED:20220707T190233Z
LAST-MODIFIED:20221105T022739Z
UID:1079-1668196800-1668200400@clemenceboinot.com
SUMMARY:Série de concerto 'a harpa através do tempo'
DESCRIPTION:O terceiro concerto da série de Concertos e Masterclass « A harpa através do tempo »\, com Cecília Pacheco e Cláudia Miranda. \nVenham descobrir múltiplos repertórios para harpa três vezes ao ano!\nPara essa terceira edição\, o concerto será voltado a duos e trios de harpas de diversas épocas. (obras de Andrès\, Thomas\, Franck\, Granados\, Ortiz e mais) \n  \nGarante seu lugar ! https://forms.gle/rchqXN6boMcwfv256 \nConcerto : 30 R$ \n 
URL:https://clemenceboinot.com/event/serie-de-concerto-a-harpa-atraves-do-tempo-2/
LOCATION:EHA – Espaço de Harpas e Arte\, Rua Getúlio Vargas 446\, Belo Horizonte\, Brésil
END:VEVENT
END:VCALENDAR