BEGIN:VCALENDAR
VERSION:2.0
PRODID:-//Clémence Boinot - ECPv5.8.0//NONSGML v1.0//EN
CALSCALE:GREGORIAN
METHOD:PUBLISH
X-WR-CALNAME:Clémence Boinot
X-ORIGINAL-URL:https://clemenceboinot.com
X-WR-CALDESC:évènements pour Clémence Boinot
BEGIN:VTIMEZONE
TZID:America/Sao_Paulo
BEGIN:STANDARD
TZOFFSETFROM:-0200
TZOFFSETTO:-0300
TZNAME:-03
DTSTART:20170219T020000
END:STANDARD
BEGIN:DAYLIGHT
TZOFFSETFROM:-0300
TZOFFSETTO:-0200
TZNAME:-02
DTSTART:20171015T030000
END:DAYLIGHT
END:VTIMEZONE
BEGIN:VEVENT
DTSTART;TZID=America/Sao_Paulo:20170513T203000
DTEND;TZID=America/Sao_Paulo:20170513T213000
DTSTAMP:20260420T044302
CREATED:20170506T143324Z
LAST-MODIFIED:20170506T143718Z
UID:818-1494707400-1494711000@clemenceboinot.com
SUMMARY:Trio Sitka
DESCRIPTION:Maurice Ravel « Sonatine » arrgt. F. Pierre\nAndré Jolivet « Petite Suite »\nClaude Debussy « Sonate »
URL:https://clemenceboinot.com/event/trio-sitka-2/
LOCATION:Théâtre Montjoie\, passage Rochefort\, St-Gervais-les-bains\, France
END:VEVENT
END:VCALENDAR