BEGIN:VCALENDAR
VERSION:2.0
PRODID:-//Clémence Boinot - ECPv5.8.0//NONSGML v1.0//EN
CALSCALE:GREGORIAN
METHOD:PUBLISH
X-WR-CALNAME:Clémence Boinot
X-ORIGINAL-URL:https://clemenceboinot.com
X-WR-CALDESC:évènements pour Clémence Boinot
BEGIN:VTIMEZONE
TZID:America/Sao_Paulo
BEGIN:STANDARD
TZOFFSETFROM:-0200
TZOFFSETTO:-0300
TZNAME:-03
DTSTART:20160221T020000
END:STANDARD
BEGIN:DAYLIGHT
TZOFFSETFROM:-0300
TZOFFSETTO:-0200
TZNAME:-02
DTSTART:20161016T030000
END:DAYLIGHT
END:VTIMEZONE
BEGIN:VEVENT
DTSTART;TZID=America/Sao_Paulo:20160907T200000
DTEND;TZID=America/Sao_Paulo:20160907T220000
DTSTAMP:20260422T072054
CREATED:20161002T021603Z
LAST-MODIFIED:20161002T021603Z
UID:756-1473278400-1473285600@clemenceboinot.com
SUMMARY:Youth Orchestra of Bahia
DESCRIPTION:Tournée européenne du « YOBA » \nProgramme :\nGINASTERA : « Estancia :Quatre Danses »\nRAVEL : « Concerto pour piano en sol »\nTCHAIKOVSKY : « Symphonie n°4 » \nSolistes : Martha Argerich\, piano
URL:https://clemenceboinot.com/event/youth-orchestra-of-bahia-2/
LOCATION:Santa Cecilia\, Roma\, Italy
END:VEVENT
END:VCALENDAR