BEGIN:VCALENDAR
VERSION:2.0
PRODID:-//Clémence Boinot - ECPv5.8.0//NONSGML v1.0//EN
CALSCALE:GREGORIAN
METHOD:PUBLISH
X-WR-CALNAME:Clémence Boinot
X-ORIGINAL-URL:https://clemenceboinot.com
X-WR-CALDESC:évènements pour Clémence Boinot
BEGIN:VTIMEZONE
TZID:America/Sao_Paulo
BEGIN:STANDARD
TZOFFSETFROM:-0200
TZOFFSETTO:-0300
TZNAME:-03
DTSTART:20160221T020000
END:STANDARD
BEGIN:DAYLIGHT
TZOFFSETFROM:-0300
TZOFFSETTO:-0200
TZNAME:-02
DTSTART:20161016T030000
END:DAYLIGHT
END:VTIMEZONE
BEGIN:VEVENT
DTSTART;TZID=America/Sao_Paulo:20160912T203000
DTEND;TZID=America/Sao_Paulo:20160912T220000
DTSTAMP:20260422T072205
CREATED:20161002T022428Z
LAST-MODIFIED:20161002T022428Z
UID:762-1473712200-1473717600@clemenceboinot.com
SUMMARY:Youth Orchestra of Bahia
DESCRIPTION:Tournée européenne du « YOBA » \nProgramme :\nVILLA-LOBOS : « Chôros 6 »\nSHOSTAKOVICH : « Concerto pour piano n°1 »\nTCHAIKOVSKY : « Symphonie n°4 » \nSolistes : Martha Argerich\, piano – Helder Passinho\, trompette
URL:https://clemenceboinot.com/event/youth-orchestra-of-bahia-5/
LOCATION:Philharmonie de Paris\, Paris\, France
END:VEVENT
END:VCALENDAR