BEGIN:VCALENDAR
VERSION:2.0
PRODID:-//Clémence Boinot - ECPv5.8.0//NONSGML v1.0//EN
CALSCALE:GREGORIAN
METHOD:PUBLISH
X-WR-CALNAME:Clémence Boinot
X-ORIGINAL-URL:https://clemenceboinot.com
X-WR-CALDESC:évènements pour Clémence Boinot
BEGIN:VTIMEZONE
TZID:America/Sao_Paulo
BEGIN:STANDARD
TZOFFSETFROM:-0200
TZOFFSETTO:-0300
TZNAME:-03
DTSTART:20160221T020000
END:STANDARD
BEGIN:DAYLIGHT
TZOFFSETFROM:-0300
TZOFFSETTO:-0200
TZNAME:-02
DTSTART:20161016T030000
END:DAYLIGHT
END:VTIMEZONE
BEGIN:VEVENT
DTSTART;TZID=America/Sao_Paulo:20160906T200000
DTEND;TZID=America/Sao_Paulo:20160906T220000
DTSTAMP:20260424T072824
CREATED:20161002T021356Z
LAST-MODIFIED:20161002T021427Z
UID:753-1473192000-1473199200@clemenceboinot.com
SUMMARY:Youth Orchestra of Bahia
DESCRIPTION:Tournée européenne du « YOBA » \nProgramme :\nGINASTERA : « Estancia :Quatre Danses »\nRAVEL : « Concerto pour piano en sol »\nVILLA-LOBOS : « Chôros 6 »\nSTRAVINSKY : « L’oiseau de feu\, suite » \nSoliste : Martha Argerich\, piano
URL:https://clemenceboinot.com/event/youth-orchestra-of-bahia/
LOCATION:Teatro dell’Opera di Firenze\, Florence\, Italy
END:VEVENT
END:VCALENDAR